BEGIN:VCALENDAR
VERSION:2.0
PRODID:-//Parkview Mennonite Brethren Church - ECPv6.15.20//NONSGML v1.0//EN
CALSCALE:GREGORIAN
METHOD:PUBLISH
X-WR-CALNAME:Parkview Mennonite Brethren Church
X-ORIGINAL-URL:https://parkviewmb.com
X-WR-CALDESC:Events for Parkview Mennonite Brethren Church
REFRESH-INTERVAL;VALUE=DURATION:PT1H
X-Robots-Tag:noindex
X-PUBLISHED-TTL:PT1H
BEGIN:VTIMEZONE
TZID:America/Chicago
BEGIN:DAYLIGHT
TZOFFSETFROM:-0600
TZOFFSETTO:-0500
TZNAME:CDT
DTSTART:20250309T080000
END:DAYLIGHT
BEGIN:STANDARD
TZOFFSETFROM:-0500
TZOFFSETTO:-0600
TZNAME:CST
DTSTART:20251102T070000
END:STANDARD
BEGIN:DAYLIGHT
TZOFFSETFROM:-0600
TZOFFSETTO:-0500
TZNAME:CDT
DTSTART:20260308T080000
END:DAYLIGHT
BEGIN:STANDARD
TZOFFSETFROM:-0500
TZOFFSETTO:-0600
TZNAME:CST
DTSTART:20261101T070000
END:STANDARD
BEGIN:DAYLIGHT
TZOFFSETFROM:-0600
TZOFFSETTO:-0500
TZNAME:CDT
DTSTART:20270314T080000
END:DAYLIGHT
BEGIN:STANDARD
TZOFFSETFROM:-0500
TZOFFSETTO:-0600
TZNAME:CST
DTSTART:20271107T070000
END:STANDARD
END:VTIMEZONE
BEGIN:VEVENT
DTSTART;TZID=America/Chicago:20260627T000000
DTEND;TZID=America/Chicago:20260701T235959
DTSTAMP:20260424T142345
CREATED:20260225T210738Z
LAST-MODIFIED:20260409T174355Z
UID:14387-1782518400-1782950399@parkviewmb.com
SUMMARY:ASCENT High School Camp
DESCRIPTION:The Crossings\, Lexington\, NE
URL:https://parkviewmb.com/event/high-school-camp/
ATTACH;FMTTYPE=image/jpeg:https://parkviewmb.com/wp-content/uploads/2025/09/SDYC-Web-scaled.jpg
END:VEVENT
BEGIN:VEVENT
DTSTART;TZID=America/Chicago:20260703T080000
DTEND;TZID=America/Chicago:20260703T170000
DTSTAMP:20260424T142345
CREATED:20260304T210142Z
LAST-MODIFIED:20260304T210143Z
UID:14397-1783065600-1783098000@parkviewmb.com
SUMMARY:Office Closed
DESCRIPTION:Office Closed for 4th of July.
URL:https://parkviewmb.com/event/office-closed/
ATTACH;FMTTYPE=image/jpeg:https://parkviewmb.com/wp-content/uploads/2022/05/Office-Closed-Web.jpg
END:VEVENT
BEGIN:VEVENT
DTSTART;TZID=America/Chicago:20260705T000000
DTEND;TZID=America/Chicago:20260711T235959
DTSTAMP:20260424T142345
CREATED:20260304T210517Z
LAST-MODIFIED:20260407T192255Z
UID:14401-1783209600-1783814399@parkviewmb.com
SUMMARY:Game Changers Mission Trip to Utah
DESCRIPTION:
URL:https://parkviewmb.com/event/utah-trip/
ATTACH;FMTTYPE=image/jpeg:https://parkviewmb.com/wp-content/uploads/2023/04/GameChangersServe-Web.jpg
END:VEVENT
BEGIN:VEVENT
DTSTART;TZID=America/Chicago:20260719T000000
DTEND;TZID=America/Chicago:20260719T235959
DTSTAMP:20260424T142345
CREATED:20260414T183506Z
LAST-MODIFIED:20260414T183507Z
UID:14478-1784419200-1784505599@parkviewmb.com
SUMMARY:Ice Cream Social @ Parkview
DESCRIPTION:This event is sponsored by Worship Board. More details will follow.
URL:https://parkviewmb.com/event/ice-cream-social-parkview/
ATTACH;FMTTYPE=image/jpeg:https://parkviewmb.com/wp-content/uploads/2026/04/ice-cream.jpg
END:VEVENT
END:VCALENDAR