BEGIN:VCALENDAR
VERSION:2.0
PRODID:-//Parkview Mennonite Brethren Church - ECPv6.15.20//NONSGML v1.0//EN
CALSCALE:GREGORIAN
METHOD:PUBLISH
X-WR-CALNAME:Parkview Mennonite Brethren Church
X-ORIGINAL-URL:https://parkviewmb.com
X-WR-CALDESC:Events for Parkview Mennonite Brethren Church
REFRESH-INTERVAL;VALUE=DURATION:PT1H
X-Robots-Tag:noindex
X-PUBLISHED-TTL:PT1H
BEGIN:VTIMEZONE
TZID:America/Chicago
BEGIN:DAYLIGHT
TZOFFSETFROM:-0600
TZOFFSETTO:-0500
TZNAME:CDT
DTSTART:20250309T080000
END:DAYLIGHT
BEGIN:STANDARD
TZOFFSETFROM:-0500
TZOFFSETTO:-0600
TZNAME:CST
DTSTART:20251102T070000
END:STANDARD
BEGIN:DAYLIGHT
TZOFFSETFROM:-0600
TZOFFSETTO:-0500
TZNAME:CDT
DTSTART:20260308T080000
END:DAYLIGHT
BEGIN:STANDARD
TZOFFSETFROM:-0500
TZOFFSETTO:-0600
TZNAME:CST
DTSTART:20261101T070000
END:STANDARD
BEGIN:DAYLIGHT
TZOFFSETFROM:-0600
TZOFFSETTO:-0500
TZNAME:CDT
DTSTART:20270314T080000
END:DAYLIGHT
BEGIN:STANDARD
TZOFFSETFROM:-0500
TZOFFSETTO:-0600
TZNAME:CST
DTSTART:20271107T070000
END:STANDARD
END:VTIMEZONE
BEGIN:VEVENT
DTSTART;TZID=America/Chicago:20260607T103000
DTEND;TZID=America/Chicago:20260607T113000
DTSTAMP:20260424T125652
CREATED:20260324T165548Z
LAST-MODIFIED:20260409T174629Z
UID:14416-1780828200-1780831800@parkviewmb.com
SUMMARY:Promotion Sunday
DESCRIPTION:Outdoor Service (weather permitting) in Grace Meadow on the east side of church building. No Sunday School.
URL:https://parkviewmb.com/event/promotion-sunday/
ATTACH;FMTTYPE=image/jpeg:https://parkviewmb.com/wp-content/uploads/2025/04/Promotion-Sunday-Web-scaled.jpg
END:VEVENT
BEGIN:VEVENT
DTSTART;TZID=America/Chicago:20260614T150000
DTEND;TZID=America/Chicago:20260614T170000
DTSTAMP:20260424T125652
CREATED:20260407T184148Z
LAST-MODIFIED:20260409T174846Z
UID:14436-1781449200-1781456400@parkviewmb.com
SUMMARY:Parkside & Salem Home Services
DESCRIPTION:
URL:https://parkviewmb.com/event/parkside-salem-home-services/
ATTACH;FMTTYPE=image/jpeg:https://parkviewmb.com/wp-content/uploads/2024/04/ServeEventWeb-scaled.jpg
END:VEVENT
BEGIN:VEVENT
DTSTART;TZID=America/Chicago:20260616T000000
DTEND;TZID=America/Chicago:20260619T235959
DTSTAMP:20260424T125652
CREATED:20260225T210552Z
LAST-MODIFIED:20260409T174612Z
UID:14385-1781568000-1781913599@parkviewmb.com
SUMMARY:Kids Camp
DESCRIPTION:@ Tabor College Campus
URL:https://parkviewmb.com/event/kids-camp/
ATTACH;FMTTYPE=image/jpeg:https://parkviewmb.com/wp-content/uploads/2025/11/JHYC-Web-scaled.jpg
END:VEVENT
BEGIN:VEVENT
DTSTART;TZID=America/Chicago:20260627T000000
DTEND;TZID=America/Chicago:20260701T235959
DTSTAMP:20260424T125652
CREATED:20260225T210738Z
LAST-MODIFIED:20260409T174355Z
UID:14387-1782518400-1782950399@parkviewmb.com
SUMMARY:ASCENT High School Camp
DESCRIPTION:The Crossings\, Lexington\, NE
URL:https://parkviewmb.com/event/high-school-camp/
ATTACH;FMTTYPE=image/jpeg:https://parkviewmb.com/wp-content/uploads/2025/09/SDYC-Web-scaled.jpg
END:VEVENT
END:VCALENDAR