BEGIN:VCALENDAR
VERSION:2.0
PRODID:-//Parkview Mennonite Brethren Church - ECPv6.15.20//NONSGML v1.0//EN
CALSCALE:GREGORIAN
METHOD:PUBLISH
X-WR-CALNAME:Parkview Mennonite Brethren Church
X-ORIGINAL-URL:https://parkviewmb.com
X-WR-CALDESC:Events for Parkview Mennonite Brethren Church
REFRESH-INTERVAL;VALUE=DURATION:PT1H
X-Robots-Tag:noindex
X-PUBLISHED-TTL:PT1H
BEGIN:VTIMEZONE
TZID:America/Chicago
BEGIN:DAYLIGHT
TZOFFSETFROM:-0600
TZOFFSETTO:-0500
TZNAME:CDT
DTSTART:20250309T080000
END:DAYLIGHT
BEGIN:STANDARD
TZOFFSETFROM:-0500
TZOFFSETTO:-0600
TZNAME:CST
DTSTART:20251102T070000
END:STANDARD
BEGIN:DAYLIGHT
TZOFFSETFROM:-0600
TZOFFSETTO:-0500
TZNAME:CDT
DTSTART:20260308T080000
END:DAYLIGHT
BEGIN:STANDARD
TZOFFSETFROM:-0500
TZOFFSETTO:-0600
TZNAME:CST
DTSTART:20261101T070000
END:STANDARD
BEGIN:DAYLIGHT
TZOFFSETFROM:-0600
TZOFFSETTO:-0500
TZNAME:CDT
DTSTART:20270314T080000
END:DAYLIGHT
BEGIN:STANDARD
TZOFFSETFROM:-0500
TZOFFSETTO:-0600
TZNAME:CST
DTSTART:20271107T070000
END:STANDARD
END:VTIMEZONE
BEGIN:VEVENT
DTSTART;TZID=America/Chicago:20260405T000000
DTEND;TZID=America/Chicago:20260405T235959
DTSTAMP:20260424T183110
CREATED:20260212T210133Z
LAST-MODIFIED:20260324T163309Z
UID:14350-1775347200-1775433599@parkviewmb.com
SUMMARY:Easter Sunday Sunrise Service
DESCRIPTION:Sunrise Service @ Gnadenau Cemetery (weather permitting) @ 7:00 am Breakfast following in the Activity Center at Parkview Church. Sunday School following @ 9:30 am.  Easter Worship Service @ 10:30 am.
URL:https://parkviewmb.com/event/easter-service/
ATTACH;FMTTYPE=image/jpeg:https://parkviewmb.com/wp-content/uploads/2024/02/EasterHoldImageWeb-scaled.jpg
END:VEVENT
BEGIN:VEVENT
DTSTART;TZID=America/Chicago:20260403T180000
DTEND;TZID=America/Chicago:20260403T190000
DTSTAMP:20260424T183110
CREATED:20260212T205811Z
LAST-MODIFIED:20260212T223845Z
UID:14347-1775239200-1775242800@parkviewmb.com
SUMMARY:Good Friday Service
DESCRIPTION:Come for a solemn time of reflecting on Christ’s death
URL:https://parkviewmb.com/event/good-friday-service/
ATTACH;FMTTYPE=image/jpeg:https://parkviewmb.com/wp-content/uploads/2024/02/EasterHoldImageWeb-scaled.jpg
END:VEVENT
BEGIN:VEVENT
DTSTART;TZID=America/Chicago:20260402T180000
DTEND;TZID=America/Chicago:20260402T190000
DTSTAMP:20260424T183110
CREATED:20260212T205605Z
LAST-MODIFIED:20260212T223859Z
UID:14345-1775152800-1775156400@parkviewmb.com
SUMMARY:Maundy Thursday Service
DESCRIPTION:Come for a time of communion and foot-washing.
URL:https://parkviewmb.com/event/maundy-thursday-service/
ATTACH;FMTTYPE=image/jpeg:https://parkviewmb.com/wp-content/uploads/2024/02/EasterHoldImageWeb-scaled.jpg
END:VEVENT
BEGIN:VEVENT
DTSTART;TZID=America/Chicago:20260401T180000
DTEND;TZID=America/Chicago:20260401T184500
DTSTAMP:20260424T183110
CREATED:20260108T211338Z
LAST-MODIFIED:20260108T211338Z
UID:14263-1775066400-1775069100@parkviewmb.com
SUMMARY:Wed Night Meal
DESCRIPTION:Pancakes\, sausage\, fruit\, dessert
URL:https://parkviewmb.com/event/wed-night-meal-11/
ATTACH;FMTTYPE=image/jpeg:https://parkviewmb.com/wp-content/uploads/2022/04/Wednesday-Meal-Web.jpg
END:VEVENT
BEGIN:VEVENT
DTSTART;TZID=America/Chicago:20260325T180000
DTEND;TZID=America/Chicago:20260325T184500
DTSTAMP:20260424T183110
CREATED:20260108T211231Z
LAST-MODIFIED:20260108T211231Z
UID:14261-1774461600-1774464300@parkviewmb.com
SUMMARY:Wed Night Meal
DESCRIPTION:Carnitas street tacos\, rice\, beans\, dessert
URL:https://parkviewmb.com/event/wed-night-meal-10/
ATTACH;FMTTYPE=image/jpeg:https://parkviewmb.com/wp-content/uploads/2022/04/Wednesday-Meal-Web.jpg
END:VEVENT
END:VCALENDAR